BEGIN:VCALENDAR
VERSION:2.0
PRODID:-//Sabre//Sabre VObject 4.5.8//EN
CALSCALE:GREGORIAN
BEGIN:VEVENT
UID:sabre-vobject-00f15338-b894-4f35-a9ea-94090c47345d
DTSTAMP:20260423T084448Z
SUMMARY:Die Zauberlaterne Frauenfeld
DESCRIPTION:Jedes Jahr bietet die Zauberlaterne Kindern von 6 bis 12 Jahren
  ein neues Programm von neun Filmen zu einem erschwinglichen Preis. Die Vo
 rführungen werden spielerisch pädagogisch eingerahmt. Vor der Vorstellun
 g erhalten alle Mitglieder eine illustrierte Klubzeitschrift\, deren Lekt
 üre sie auf den jeweiligen Film vorbereitet. Im Kinosaal führen eine int
 eraktive Moderation und eine szenische Einführung die Kinder in den jewei
 ligen Film ein.
LOCATION:Schlosskino\, Schlossmühlestrasse 1\, 8500 Frauenfeld
DTSTART;TZID=Europe/Zurich:20260606T110000
DTEND;TZID=Europe/Zurich:20260606T110000
ORGANIZER:Die Zauberlaterne
END:VEVENT
END:VCALENDAR
