BEGIN:VCALENDAR
VERSION:2.0
PRODID:-//Sabre//Sabre VObject 4.5.8//EN
CALSCALE:GREGORIAN
BEGIN:VEVENT
UID:sabre-vobject-3d65ef24-fafa-49ce-80eb-7dd5c750dea4
DTSTAMP:20260424T164224Z
SUMMARY:Cyrano
DESCRIPTION:Cyrano ist ein Kämpfer und Degenfechter\, an dessen Fähigkeit
 en niemand heranreicht. Er ist aber auch Dichter\, Erfinder\, Philosoph\, 
 schlicht einer der brillantesten Köpfe von Paris. Nur in einem Punkt ist 
 er schwach: Seine übergrosse Nase raubt ihm das Selbstvertrauen\, der von
  ihm angebeteten Roxane seine Liebe zu gestehen.\\n\n\\n\nRoxane liebt den
  schönen\, aber unbedarften Christian und bittet ausgerechnet Cyrano\, de
 n Jüngling zu beschützen. Die beiden Männer schliessen einen Pakt\, um 
 die unnahbare Schöne zu gewinnen. Edmond Rostands romantische Komödie is
 t bis heute das meistgespielte Stück Frankreichs. Jo Roets und Greet Viss
 ers haben eine wunderbar entschlackte Fassung dieses Klassikers für ein j
 unges oder jung gebliebenes Publikum geschaffen. Mit Christoph Keller\, Ev
 a Maropoulos und Theater Alexander Maria Schmidt.\\n\n\\n\nFür alle ab 12
  Jahren.
LOCATION:Theater Winterthur\, Theaterstrasse 6\, 8401 Winterthur
DTSTART;TZID=Europe/Zurich:20260505T190000
DTEND;TZID=Europe/Zurich:20260505T201500
ORGANIZER:Theater Winterthur
END:VEVENT
END:VCALENDAR
