BEGIN:VCALENDAR
VERSION:2.0
PRODID:-//Sabre//Sabre VObject 4.5.8//EN
CALSCALE:GREGORIAN
BEGIN:VEVENT
UID:sabre-vobject-4bf407a9-f89f-4b23-9f3e-41a43bc8dca2
DTSTAMP:20260421T062722Z
SUMMARY:Das Doppel
DESCRIPTION:Ein Mann beginnt\, ein Leben zu erzählen. Ein Musiker begleite
 t ihn. Einem zweiten Mann scheint die Szene zu missfallen. Er unterbricht\
 , schlägt Änderungen vor. Sie kommen ins Gespräch. Und in den Streit. D
 enn wie dieses Leben erzählt sein soll\, das muss zuerst erinnert werden.
  Und wie sich alles zugetragen hat\, bleibt zu entscheiden. \nIn dem klug
  verwobenen Kammerspiel um Selbstgestaltung des eigenen Schicksals kann di
 e Richtung immer wechseln. Je nachdem wie die Geschichte erzählt wird\, 
 ändern sich die Tatsachen darin. Am Ende steuert alles auf ein Ende hin\,
  das sich gewaschen hat.\\n\\nDauer: ca. 70 Minuten\, keine Pause\nTüröf
 fnung und Barbetrieb: 19.00 Uhr
LOCATION:Phönix Theater\, Im Feldbach 8\, 8266 Steckborn
DTSTART;TZID=Europe/Zurich:20260424T193000
DTEND;TZID=Europe/Zurich:20260424T204000
ORGANIZER:Phönix Theater
END:VEVENT
END:VCALENDAR
