BEGIN:VCALENDAR
VERSION:2.0
PRODID:-//Sabre//Sabre VObject 4.5.8//EN
CALSCALE:GREGORIAN
BEGIN:VEVENT
UID:sabre-vobject-6bc3b8e2-b204-4bfb-885b-bab3ee6f7dee
DTSTAMP:20260421T062722Z
SUMMARY:Samar by Rigolo - zwischen welt\, Phönix Theater Steckborn
DESCRIPTION:Mit der Bühnenproduktion Samar erkundet Rigolo die Zwischenwe
 lten—den Bereich zwischen Traum und Wirklichkeit\, zwischen dem Bekannte
 n und dem Unbekannten. \\n\\nDas Stück zeigt die Reise der Künstler\, di
 e sich zwischen Himmel und Erde bewegen\, stets balancierend\, immer suche
 nd. Die getanzte Geschichte erzählt von der Sehnsucht\, diese schwer fass
 bare Dimension zu verstehen.\\n\\nSamar ist\, wie bereits die letzten Rig
 olo Produktionen\, spartenübergreifend. Die vier Artist:innen zeigen zeit
 genössischen Tanz und Luftakrobatik mit schauspielerischen Elementen. In 
 den Seilinstallationen bewegen sich die Tänzer:innen schwerelos. Schweben
 d und schwingend erforschen sie die Welt des Dazwischen-Seins.\\n\\nTransp
 arente Stoffe\, Lichtinstallationen und feine Nebelschleier erzeugen eine 
 Atmosphäre\, die die Tänzer:innen in ein diffuses\, ständig wechselndes
  Umfeld taucht. \\n\\nDie visuelle Poesie wird durch eine eigens komponier
 te Musik untermalt.
LOCATION:Phönix Theater\, Im Feldbach 8\, 8266 Steckborn
DTSTART;TZID=Europe/Zurich:20260425T200000
DTEND;TZID=Europe/Zurich:20260425T211000
ORGANIZER:Rigolo Tanztheater
END:VEVENT
END:VCALENDAR
