BEGIN:VCALENDAR
VERSION:2.0
PRODID:-//Sabre//Sabre VObject 4.5.8//EN
CALSCALE:GREGORIAN
BEGIN:VEVENT
UID:sabre-vobject-8b3771f7-ff26-4430-8801-dd9d34d6c526
DTSTAMP:20260421T062723Z
SUMMARY:Pink Panther
DESCRIPTION:Eine One-Man-Show von und mit Javier Rodríguez Cobos\, der bis
  zur Spielzeit 21/22 Ensembletänzer am Theater Basel war\, inspiriert von
  der Pink-Panther-Filmreihe. Über Physical Theatre\, Tanz und Video nähe
 rt sich Cobos nicht nur dem tollpatschigen Inspektor Clouseau an\, sondern
  auch anderen Figuren aus dem ersten Pink-Panther-Film: dem Phantom\, eine
 m Meisterdieb\, der das Pink-Panther-Juwel stehlen will\, sowie Clouseaus 
 Frau\, die mit dem Phantom unter einer Decke steckt. \\n\n\\n\nAb 12 Jahr
 en.\\n\n\\n\nDauer: ca. 75 Minuten\, keine PauseTüröffnung und Barbetrie
 b: 19.00 Uhr
LOCATION:Phönix Theater\, Im Feldbach 8\, 8266 Steckborn
DTSTART;TZID=Europe/Zurich:20260605T193000
DTEND;TZID=Europe/Zurich:20260605T204500
ORGANIZER:Phönix Theater
END:VEVENT
END:VCALENDAR
