BEGIN:VCALENDAR
VERSION:2.0
PRODID:-//Sabre//Sabre VObject 4.5.8//EN
CALSCALE:GREGORIAN
BEGIN:VEVENT
UID:sabre-vobject-ead52a79-988d-456c-9fb4-d65e252b3a8b
DTSTAMP:20260425T000507Z
SUMMARY:Rockstar Symphony
DESCRIPTION:Auf der Bühne interpretieren ein Ensemble von Musiker:innen un
 d eine Auswahl außergewöhnlicher Stimmen die Songs neu\, die Musikgeschi
 chte geschrieben haben\, und verwandeln jede Note in einen Moment purer Em
 otion.\nVon den Riffs von AC/DC und Guns N' Roses über die epischen Refra
 ins von Queen bis hin zur fesselnden Energie von Bon Jovi\, Europe und Kis
 s - jeder Auftritt ist eine Hommage an die unsterbliche Seele des Rock. Di
 e kraftvollen Klänge von Gitarren und Schlagzeug werden mit dem Reichtum 
 von Streichern\, Bläsern und orchestraler Perkussion verwoben\, wodurch s
 pektakuläre Arrangements entstehen\, die den großen Klassikern neues Leb
 en einhauchen.
LOCATION:Pentorama Amriswil\, Arbonerstrasse 4\, 8580 Amriswil
DTSTART;TZID=Europe/Zurich:20261004T180000
DTEND;TZID=Europe/Zurich:20261004T180000
ORGANIZER:See Ticket AG (AWIN)
END:VEVENT
END:VCALENDAR
