BEGIN:VCALENDAR
VERSION:2.0
PRODID:-//Sabre//Sabre VObject 4.5.8//EN
CALSCALE:GREGORIAN
BEGIN:VEVENT
UID:sabre-vobject-e088886b-801b-4928-bdad-c87e69994c25
DTSTAMP:20260419T164251Z
SUMMARY:Lapsus - Ego!
DESCRIPTION:Was passiert\, wenn die beiden plötzlich das Zepter übernehme
 n? \\nWer steuert hier eigentlich wen? \\nUnd wie geht’s Peter und Chris
 tian damit – privat? \\nAntworten gibt’s keine\, dafür umso mehr Frag
 en. \\n\\nHitzig und Gschwind treiben den Wahnsinn auf die Spitze\, und al
 te Bekannte wie Harald &amp\; Harald sorgen für das nötige Chaos. Seit i
 hrer Zeit an der Dimitri-Schule stellen Lapsus das Alltägliche auf den Ko
 pf – mal subtil\, mal direkt\, aber immer mit einem Augenzwinkern.
LOCATION:Pentorama Amriswil\, Arbonerstrasse 4\, 8580 Amriswil
DTSTART;TZID=Europe/Zurich:20261121T200000
DTEND;TZID=Europe/Zurich:20261121T221500
ORGANIZER:rhc gmbh
END:VEVENT
END:VCALENDAR
