BEGIN:VCALENDAR
VERSION:2.0
PRODID:-//Sabre//Sabre VObject 4.5.8//EN
CALSCALE:GREGORIAN
BEGIN:VEVENT
UID:sabre-vobject-9bbcb87d-8d62-423e-adec-a7f30467c360
DTSTAMP:20260425T015041Z
SUMMARY:Rebberge im Wandel
DESCRIPTION:Dank konsequenter Förderung von Nützlingen\, pilzwiderstandsf
 ähigen Züchtungen und einer riesigen Sortenvielfalt schaffen sie es den 
 Einsatz von Hilfsstoffen zu minimieren. Sie sind Visionäre des Bioweinbau
 s.\nFür seine Spitzenweine wurde das Weingut-Lenz-Team 2018 zum zweiten M
 al als Bioweingut des Jahres gekürt und im 2022 erhielten sie den Titel 
 «Visionäre» als einer der «25 Weinpersönlichkeiten des Jahres – Sch
 weiz».\nWie wichtig Artenvielfalt auch beim Weinbau ist\, erfahren die Te
 ilnehmenden auf einem Rundgang durch die Rebberge. Ausserdem wird erklärt
 \, welche Alternativen das Team anstelle von Pestiziden und Insektiziden e
 insetzt und welche Chancen pilzwiederstandfähige (Piwi) Sorten bieten. Na
 ch der Kellereibesichtigung kommen die Teilnehmenden in den Genuss einer D
 egustation von vier Piwi-Weinen.\nAn- und Rückreise:\\nab SG BHF 12:40 Uh
 r Gl. 7 Richtung Weinfelden\, ab Weinfelden 13:36 Uhr Gl. 3 Richtung Luzer
 n\, ab Frauenfeld BHF 13:49 Uhr B 822 Richtung Oberneunforn\, an Iselisber
 g\, Abzweigung 14:03 Uhr\\n\\nCa. 15 Minuten Fussweg von der Bushaltestell
 e bis zum Weingut.
LOCATION:Bioweingut Roland & Karin Lenz\, In Iselisberg 23\, 8524 Uesslinge
 n
DTSTART;TZID=Europe/Zurich:20260606T141500
DTEND;TZID=Europe/Zurich:20260606T170000
ORGANIZER:WWF Regiobuero AP-SG-TG
END:VEVENT
END:VCALENDAR
