BEGIN:VCALENDAR
VERSION:2.0
PRODID:-//Sabre//Sabre VObject 4.5.8//EN
CALSCALE:GREGORIAN
BEGIN:VEVENT
UID:sabre-vobject-2a54544e-b304-42bc-973c-ec8fb338335b
DTSTAMP:20260425T020751Z
SUMMARY:Altstadtführung in Wil - Stadtmauern und Brunnen
DESCRIPTION:Auf einem Rundgang durch das historische Zentrum der Stadt Wil 
 erhalten die Teilnehmenden Einblicke in die Besonderheiten und Sehenswürd
 igkeiten der Anlage\, die vor mehr als 800 Jahren durch die Grafen von Tog
 genburg gegründet wurde.\nTreffpunkt ist auf dem Hofplatz beim Eingang zu
 m Hof (Marktgasse 88).
LOCATION:Hof zu Wil\, Marktgasse 88\, 9500 Wil SG
DTSTART;TZID=Europe/Zurich:20260530T093000
DTEND;TZID=Europe/Zurich:20260530T093000
ORGANIZER:Stadt Wil
END:VEVENT
END:VCALENDAR
