BEGIN:VCALENDAR
VERSION:2.0
PRODID:-//Sabre//Sabre VObject 4.5.8//EN
CALSCALE:GREGORIAN
BEGIN:VEVENT
UID:sabre-vobject-120410a0-8ddb-4703-b876-24ef9d763220
DTSTAMP:20260425T021603Z
SUMMARY:Geführter Sommerspaziergang durch eine vielfältige Kulturlandscha
 ft
DESCRIPTION:Im Fokus stehen: Lebendiger Boden mit einem gesunden Bodenmikro
 biom – Landschaftsgestaltung – die Pflanze als Wunderwerk – Tiere un
 d Nutztiere – Mensch und Klima.\\n\\n- Wanderung von ca. 4km rund um den
  Burg- Fahr- Mönchhof und Abt\\n- 10:15 Uhr Besammlung auf dem Bioweingut
  Lenz – Fahrt zum Abt mit Rundgang\, Fahrt zurück\, anschliessend gemei
 nsamer Apéro Riche.\\n- Ende ca. 15:00 Uhr\\n\\nWeitere Informationen und
  Anmeldung auf der Webseite unter Künftige Anlässe.
LOCATION:Bioweingut Roland & Karin Lenz\, In Iselisberg 23\, 8524 Uesslinge
 n
DTSTART;TZID=Europe/Zurich:20260711T101500
DTEND;TZID=Europe/Zurich:20260711T150000
ORGANIZER:Bioweingut Roland & Karin Lenz
END:VEVENT
END:VCALENDAR
