BEGIN:VCALENDAR
VERSION:2.0
PRODID:-//Sabre//Sabre VObject 4.5.8//EN
CALSCALE:GREGORIAN
BEGIN:VEVENT
UID:sabre-vobject-a766c5c1-3259-422f-9e16-6878a07b2084
DTSTAMP:20260425T002226Z
SUMMARY:Höfe und Gärten im Stadtzentrum
DESCRIPTION:Das Leben der Menschen spielte sich früher auf viel dichterem 
 Raum ab. Nicht nur lebten sie in den Häusern enger zusammen als heute. Vi
 ele von ihnen übten auch am Wohnort ihr Handwerk oder Gewerbe aus\, und d
 aneben betrieben sie meist eine kleine Landwirtschaft. Das traf auch auf d
 en Pfarrer\, Lehrer\, Apotheker oder Eisenhändler zu. Diese Art zu leben 
 bewirkte\, dass auch der Umgebungsraum der Häuser oft verschachtelt und v
 ielfältig genutzt war.\\n\n\\n\nDie Selbstverständlichkeit\, mit der wir
  heute unser immer verfügbares und sauberes Wasser nutzen\, ist historisc
 h gesehen eine vergleichsweise neue Erscheinung. Bis ins frühe 20. Jahrhu
 ndert war die Wasserversorgung in Weinfelden ein ständiges Problem. Quell
 en am Ottenberg speisten zahlreiche öffentlichen Brunnen. Hier traf man s
 ich zur Versorgung des Haushalts\, und am Trog war gleichzeitig auch Wasch
 - und Schwatzplatz.\\n\n\\n\nErstaunlich viel ist davon erhalten und auffi
 ndbar geblieben\, auch wenn wir es manchmal erst auf den zweiten Blick seh
 en. Hinter den Häusern der Weinfelder Bürger und Handwerker entdecken wi
 r bis heute ihre Höfe und Gärten. Im Hof übten sie ihr Gewerbe aus und 
 stapelten ihre Handelswaren. Und in den anschliessenden Gärten pflegten s
 ie kleine Felder oder hielten ein wenig Vieh\, um einen Beitrag an die Ern
 ährung der Familie zu leisten. 
LOCATION:Rathausplatz\, 8570 Weinfelden
DTSTART;TZID=Europe/Zurich:20260512T183000
DTEND;TZID=Europe/Zurich:20260512T183000
ORGANIZER:Stadt Weinfelden
END:VEVENT
END:VCALENDAR
