BEGIN:VCALENDAR
VERSION:2.0
PRODID:-//Sabre//Sabre VObject 4.5.8//EN
CALSCALE:GREGORIAN
BEGIN:VEVENT
UID:sabre-vobject-8ef3c988-7f5c-4da4-9f47-9f86918de40d
DTSTAMP:20260421T100027Z
SUMMARY:Polaris\, das Weltraum-U-Boot
DESCRIPTION:James\, ein um die Welt reisender\, wissensdurstiger Pinguin vo
 m Südpol\, trifft in der eisigen Welt des Nordpols den Eisbären Vladimir
 . Beide werden Freunde und berichten einander über ihre Heimat. Zusammen 
 schauen sie sich die Sterne an und wundern sich über die Länge der Polar
 nächte. Um das Rätsel der Polarnächte zu lösen\, baut Eisbär Vladimir
  eine Sternwarte\, um mit dem Teleskop von Pinguin James den Nachthimmel z
 u beobachten. Wunderbare Sternbilder und der Planet Saturn mit seinen Ring
 en tauchen auf. Beide kommen sie zum Schluss\, dass sie mehr Informationen
  brauchen und die Erde von oben betrachten müssen. James und der geniale 
 Ingenieur Vladimir bauen sich ein Raumschiff.\\n\n\\n\nWährend einer Welt
 raum-Reise um die Erde\, entdecken sie Mars und Saturn. Sie stellen fest\,
  dass Planeten viele Gemeinsamkeiten haben\, aber auch unterschiedlich sin
 d. Zudem finden sie die Antwort\, warum die Nächte so lange dauern oder s
 o kurz sind. Eine Animationsshow ideal für Familien. Ab 6 Jahren.\\n\n\\n
 \nDie Planetariums-Shows sind eindrucksvolle\, multi-mediale Erlebnisse au
 f einer 360° Fulldome-Leinwand und werden durch die kompetenten Mitgliede
 r der Astronomischen Vereinigung Kreuzlingen AVK durchgeführt. Jede Show 
 schliesst mit einem live moderierten Blick in den aktuellen Sternenhimmel 
 - dank Projektion und Kuppel-Leinwand bei jeder Witterung möglich.Türöf
 fnung 30 Minuten vor Showbeginn
LOCATION:Bodensee Planetarium und Sternwarte\, Breitenrainstrasse 21\, 8280
  Kreuzlingen
DTSTART;TZID=Europe/Zurich:20260517T140000
DTEND;TZID=Europe/Zurich:20260517T140000
ORGANIZER:Bodensee Planetarium & Sternwarte
END:VEVENT
END:VCALENDAR
