BEGIN:VCALENDAR
VERSION:2.0
PRODID:-//Sabre//Sabre VObject 4.5.8//EN
CALSCALE:GREGORIAN
BEGIN:VEVENT
UID:sabre-vobject-bed872fe-b18e-4d27-8819-e9e160f9f659
DTSTAMP:20260421T100418Z
SUMMARY:Mission Erde
DESCRIPTION:Wie schön sie doch ist\, unsere Erde. Der kleine blaue Planet\
 , den wir unser Zuhause nennen\, mitten in der Kälte und Dunkelheit des U
 niversums. Von hoch oben im Weltall sehen wir das märchenhafte Leuchten d
 er Polarlichter\, die gewaltigen Dimensionen von Wirbelstürmen\, aber auc
 h den Einfluss des Menschen auf die Natur.\\n\\nDie Show «Mission Erde» 
 nimmt das Publikum mit auf eine Reise hoch hinaus ins All. Aus 40'000 Kilo
 metern Höhe haben Sie besten Ausblick auf unseren Heimatplaneten. Von hie
 r oben wird die Vielfalt und Schönheit unserer Erde erst richtig sichtbar
 . Traumhaft wirkt das Tanzen der Polarlichter\, atemberaubend der Streifzu
 g eines Hurrikans durch den Atlantik. Doch auch der Einfluss des Menschen 
 wird aus dieser Perspektive erkennbar. Das fragile Zusammenspiel der Natur
 kräfte ist aus dem Gleichgewicht geraten. Eiskappen in den Polarregionen 
 und Gletscher in den Alpen ziehen sich zurück\, der Meeresspiegel steigt 
 an und die Treibhausgase in der schützenden Atmosphäre nehmen von Jahr z
 u Jahr zu. Höchste Zeit\, unserem wunderbaren Planeten Sorge zu tragen. D
 ie «Mission Erde» beginnt jetzt!\\n\\nEine Produktion des Verkehrshauses
  Luzern.\\n\\nAlle Planetariums-Shows sind eindrucksvolle\, multi-mediale 
 Erlebnisse auf einer 360° Fulldome-Leinwand und werden durch die kompeten
 ten Mitglieder der Astronomischen Vereinigung Kreuzlingen AVK durchgeführ
 t. Jede Show schliesst mit einem live moderierten Blick in den aktuellen S
 ternenhimmel - dank Projektion und Kuppel-Leinwand bei jeder Witterung mö
 glich.\nTüröffnung 30 Minuten vor Showbeginn
LOCATION:Bodensee Planetarium und Sternwarte\, Breitenrainstrasse 21\, 8280
  Kreuzlingen
DTSTART;TZID=Europe/Zurich:20260628T160000
DTEND;TZID=Europe/Zurich:20260628T160000
ORGANIZER:Bodensee Planetarium & Sternwarte
END:VEVENT
END:VCALENDAR
