BEGIN:VCALENDAR
VERSION:2.0
PRODID:-//Sabre//Sabre VObject 4.5.8//EN
CALSCALE:GREGORIAN
BEGIN:VEVENT
UID:sabre-vobject-ea3f6189-bd22-47b5-90e2-e4276d789386
DTSTAMP:20260421T100554Z
SUMMARY:ESO - Europas Weg zu den Sternen
DESCRIPTION:Europas Weg zu den Sternen nimmt die Zuschauer:innen mit auf ei
 ne epische Reise hinter die Kulissen des leistungsstärksten bodenbasierte
 n Observatoriums der Welt und gibt Einblicke in die wissenschaftliche Arbe
 it\, in die Historie\, die Technik und die Menschen dahinter.\\n\\nMehr er
 fahren über die Europäische Südsternwarte in einer Geschichte von Neugi
 er auf den Kosmos\, von Mut und Ausdauer\; eine Geschichte über die Beoba
 chtung eines Universums der Rätsel und Geheimnisse und über Entwurf\, Ba
 u und Betrieb des leistungsstärksten bodenbasierten Teleskops der Welt.\\
 n\\nDer Film beschäftigt sich mit den grundlegenden Aspekten eines astron
 omischen Observatoriums und gibt zugleich einen Überblick über das Feld 
 der Astronomie: beginnend mit der Standortuntersuchung\, um den besten Pla
 tz für die Himmelsbeobachtung zu finden\, bis hin zum Bau der Teleskope u
 nd deren Einsatz\, wenn Astronomen die Mysterien des Universums aufdecken.
  Ab 12 Jahren.\\n\\nAlle Planetariums-Shows sind eindrucksvolle\, multi-me
 diale Erlebnisse auf einer 360° Fulldome-Leinwand und werden durch die ko
 mpetenten Mitglieder der Astronomischen Vereinigung Kreuzlingen AVK durchg
 eführt. Jede Show schliesst mit einem live moderierten Blick in den aktue
 llen Sternenhimmel - dank Projektion und Kuppel-Leinwand bei jeder Witteru
 ng möglich.\nTüröffnung 30 Minuten vor Showbeginn
LOCATION:Bodensee Planetarium und Sternwarte\, Breitenrainstrasse 21\, 8280
  Kreuzlingen
DTSTART;TZID=Europe/Zurich:20260506T170000
DTEND;TZID=Europe/Zurich:20260506T170000
ORGANIZER:Bodensee Planetarium & Sternwarte
END:VEVENT
END:VCALENDAR
