BEGIN:VCALENDAR
VERSION:2.0
PRODID:-//Sabre//Sabre VObject 4.5.8//EN
CALSCALE:GREGORIAN
BEGIN:VEVENT
UID:sabre-vobject-18625e91-b7c3-4d3a-810b-fccc448e2927
DTSTAMP:20260421T104001Z
SUMMARY:The Drama
DESCRIPTION:Von Kristoffer Borgli mit Zendaya\, Robert Pattinson\, Alana Ha
 im | USA 2026 | Deutsch | ab 14 Jahren | 106 Minuten\nEmma und Charlie sin
 d bereit\, ihre Beziehung offiziell zu machen: Ihre Hochzeit steht kurz be
 vor. Sie feilen an ihren Gelübden\, der Termin für ein Test-Fotoshooting
  steht\, die D-Jane ist gebucht. Alles läuft nach Plan. Bei einem letzten
  Probeessen mit der angehenden Trauzeugin und ihrem Ehemann lassen sie sic
 h auf ein verhängnisvolles Spiel ein: Alle vier sollen die schlimmste Sac
 he offenbaren\, die sie in ihrem bisherigen Leben verbrochen haben. Emmas 
 Beichte schockiert die Anwesenden – und löst eine Kette chaotischer Ere
 ignisse aus. Obwohl Charlie versucht\, Verständnis für Emmas Geständnis
  aufzubringen\, steht die Beziehung kurz vor der Trauung plötzlich vor de
 m Aus. Doch was ist Emmas grosses Geheimnis?
LOCATION:Kino Roxy\, Salmsacherstrasse 1\, 8590 Romanshorn
DTSTART;TZID=Europe/Zurich:20260425T201500
DTEND;TZID=Europe/Zurich:20260425T221500
ORGANIZER:Roxy
END:VEVENT
END:VCALENDAR
