BEGIN:VCALENDAR
VERSION:2.0
PRODID:-//Sabre//Sabre VObject 4.5.8//EN
CALSCALE:GREGORIAN
BEGIN:VEVENT
UID:sabre-vobject-fbaa27f9-6545-4e6d-8e09-ac2d0759a722
DTSTAMP:20260421T100230Z
SUMMARY:Zeitreise
DESCRIPTION:Das Programm "Zeitreise" führt Zuschauer:innen durch die Entst
 ehung des Universums. In spektakulären Bildern und 3D-Animationen können
  die Entstehung von Sternen\, Galaxien und Sonnensystemen miterlebt werden
 . Dann geht es vor allem um die Geschichte der Erde\, ihre Beeinflussung d
 urch katastrophale Kometeneinschläge und ihre auch heute noch andauernde 
 Umgestaltung durch Kräfte aus dem Erdinneren. Das Programm zeigt auch\, w
 ie sich das Leben auf der Erde entwickelt hat\, von einfachsten Urformen 
 über die Dinosaurier bis hin zum Menschen\, der in dieser Entwicklung ers
 t sehr spät auftaucht.\\n\n\\n\nUm die zeitliche Dimension besser zu begr
 eifen\, wird die ganze Geschichte des Universums auf die Zeit eines Jahres
  verkürzt.\\n\n\\n\nAlle Planetariums-Shows sind eindrucksvolle\, multi-m
 ediale Erlebnisse auf einer 360° Fulldome-Leinwand und werden durch die k
 ompetenten Mitglieder der Astronomischen Vereinigung Kreuzlingen AVK durch
 geführt. Jede Show schliesst mit einem live moderierten Blick in den aktu
 ellen Sternenhimmel - dank Projektion und Kuppel-Leinwand bei jeder Witter
 ung möglich.Türöffnung 30 Minuten vor Showbeginn
LOCATION:Bodensee Planetarium und Sternwarte\, Breitenrainstrasse 21\, 8280
  Kreuzlingen
DTSTART;TZID=Europe/Zurich:20260530T170000
DTEND;TZID=Europe/Zurich:20260530T170000
ORGANIZER:Bodensee Planetarium & Sternwarte
END:VEVENT
END:VCALENDAR
