BEGIN:VCALENDAR
VERSION:2.0
PRODID:-//Sabre//Sabre VObject 4.5.8//EN
CALSCALE:GREGORIAN
BEGIN:VEVENT
UID:sabre-vobject-8261efb2-f28c-4993-86fe-867508ab2f8c
DTSTAMP:20260425T021603Z
SUMMARY:Krimi-Theater "Frau Hase und die Giftspritze" im Brauhaus Frauenfel
 d
DESCRIPTION:Detektivische Fähigkeiten sind gefragt. Denn das Publikum rät
 selt aktiv mit und überführt am Ende hoffentlich den Täter. Mit der jun
 gen Schweizer Schauspiel-Truppe ist spannende Unterhaltung garantiert. \\n
 \\nFür dein leibliches Wohl sorgt das Team aus der Brauhaus-Küche und ve
 rwöhnt die Gäste mit einem sorgfältig zusammengestellten köstlichen 3-
 Gang-Menü. Schon zum Start erwartet die Teilnehmenden ein feiner Apéro\,
  der genussvoll auf den Abend einstimmt.\nEin Abend voller Nerven- und Gau
 menkitzel\, bei dem spannende Unterhaltung auf kulinarische Highlights tri
 fft. In gemütlicher Brauhaus-Atmosphäre können die Teilnehmenden zurüc
 klehnen und einfach geniessen. Im Ticketpreis enthalten sind Bier\, Minera
 lwasser\, Weiss- und Rotwein sowie ein Kaffee zum Abschluss.\\n\\nEin Aben
 d\, der alle Sinne anspricht.\\n\\nDarum geht's?\\nAlle Kurgäste haben si
 ch zum Essen im Restaurant des Kurhotels versammelt. Doch mit Erholung ist
  es schnell vorbei. Ein Kurgast stirbt vor allen Gästen. Zum Glück hat d
 ie Pflegerin Helga Hase einen Onlinekurs als Detektivin absolviert und die
  haarsträubenden Ermittlungen können ihren Lauf nehmen.
LOCATION:Brauhaus Sternen AG\, Hohenzornstrasse 2\, 8500 Frauenfeld
DTSTART;TZID=Europe/Zurich:20261022T180000
DTEND;TZID=Europe/Zurich:20261022T220000
ORGANIZER:Brauhaus Sternen AG
END:VEVENT
END:VCALENDAR
