BEGIN:VCALENDAR
VERSION:2.0
PRODID:-//Sabre//Sabre VObject 4.5.8//EN
CALSCALE:GREGORIAN
BEGIN:VEVENT
UID:sabre-vobject-33fcdcc0-03c3-47ab-a527-79ee43b5259c
DTSTAMP:20260421T064718Z
SUMMARY:Piratenwunder – Das Geheimnis des Ozeans
DESCRIPTION:Ein poetisches Stück\, das Tanz\, Objekttheater und Interaktio
 n zu einem sinnlich-intelligenten Familienstück über Verlust\, Mut\, Ide
 ntität und die Kraft innerer Wandlung verbindet – für die ganze Famili
 e.\nEin junges Mädchen findet in einer alten Kiste ein Foto ihrer verschw
 undenen Mutter und eine geheimnisvolle Karte. Dieser Fund wird zum Auslös
 er einer symbolischen Reise ins Innere des Ozeans und zugleich in ihre eig
 ene Erinnerung – auf der Suche nach einem verlorenen Schatz.\nAls Pirati
 n folgt sie der Karte zu drei magischen Inseln\, die Stille\, Erinnerung u
 nd Verlockung verkörpern und jeweils eine innere Prüfung darstellen. Am 
 Ende entdeckt sie in einer Meereshöhle keinen materiellen Schatz\, sonder
 n ein Erinnerungsstück\, das ihre Verbindung zur Mutter erneuert und sie 
 gestärkt zurückkehren lässt. \\n\\nAb 5 Jahren.\\n\\nDauer: ca. 45 Min
 uten\, keine Pause\nTüröffnung und Barbetrieb: 15.30 Uhr
LOCATION:Phönix Theater\, Im Feldbach 8\, 8266 Steckborn
DTSTART;TZID=Europe/Zurich:20260429T160000
DTEND;TZID=Europe/Zurich:20260429T164500
ORGANIZER:Phönix Theater
END:VEVENT
END:VCALENDAR
