BEGIN:VCALENDAR
VERSION:2.0
PRODID:-//Sabre//Sabre VObject 4.5.8//EN
CALSCALE:GREGORIAN
BEGIN:VEVENT
UID:sabre-vobject-8b743f86-ea9d-45cd-aae1-c5f3560ecbe0
DTSTAMP:20260421T100229Z
SUMMARY:Phantom des Universums
DESCRIPTION:Phantom des Universums erzählt die aufregende Geschichte der E
 rforschung der Dunklen Materie\, vom Urknall bis zu ihrem indirekten Nachw
 eis im 21. Jahrhundert. Der Film entführt die ZuschauerInnen in die Tiefe
 n einer ehemaligen Goldmine in South Dakota\, zum empfindlichsten Dunkle-M
 aterie-Detektor der Welt. Von dort geht es zum Large Hadron Collider\, dem
  weltweit grössten und leistungsstärksten Teilchenbeschleuniger. Am CERN
  arbeitet ein internationales Wissenschaftler-Team daran\, den Bestandteil
 en der Dunklen Materie auf die Spur zu kommen.\\n\n\\n\nEin spannendes Fil
 merlebnis\, in welchem die Hauptfigur – die Dunkle Materie – unsichtba
 r bleibt. Auch wenn sie nicht direkt beobachtet werden kann\, wird ihre Ex
 istenz heute nicht mehr in Frage gestellt.\\n\n\\n\nAb 12 Jahren.\\n\n\\n\
 nAlle Planetariums-Shows sind eindrucksvolle\, multi-mediale Erlebnisse au
 f einer 360° Fulldome-Leinwand und werden durch die kompetenten Mitgliede
 r der Astronomischen Vereinigung Kreuzlingen AVK durchgeführt. Jede Show 
 schliesst mit einem live moderierten Blick in den aktuellen Sternenhimmel 
 - dank Projektion und Kuppel-Leinwand bei jeder Witterung möglich.Türöf
 fnung 30 Minuten vor Showbeginn
LOCATION:Bodensee Planetarium und Sternwarte\, Breitenrainstrasse 21\, 8280
  Kreuzlingen
DTSTART;TZID=Europe/Zurich:20260603T170000
DTEND;TZID=Europe/Zurich:20260603T170000
ORGANIZER:Bodensee Planetarium & Sternwarte
END:VEVENT
END:VCALENDAR
