BEGIN:VCALENDAR
VERSION:2.0
PRODID:-//Sabre//Sabre VObject 4.5.8//EN
CALSCALE:GREGORIAN
BEGIN:VEVENT
UID:sabre-vobject-6fef3b9e-8416-4aea-9e8f-81eb70800ca0
DTSTAMP:20260421T100328Z
SUMMARY:Geheimnis Dunkle Materie
DESCRIPTION:Woraus besteht der Kosmos? Diese Frage beschäftigt Wissenschaf
 tler seit Menschengedenken - und sie wurde immer noch nicht beantwortet. D
 enn rund ein Viertel des gesamten Universums besteht aus einer geheimnisvo
 llen Dunklen Materie. Man weiss: Sie ist da\, doch es ist nicht bekannt\, 
 woraus sie besteht.\\n\\nIn dieser Show begleiten Besucher:innen die Wisse
 nschaftler auf ihrer Jagd nach der Dunklen Materie\, sei es im Raum oder d
 em tiefen Untergrund. Ab 12 Jahren.\\n\\nAlle Planetariums-Shows sind eind
 rucksvolle\, multi-mediale Erlebnisse auf einer 360° Fulldome-Leinwand un
 d werden durch die kompetenten Mitglieder der Astronomischen Vereinigung K
 reuzlingen AVK durchgeführt. Jede Show schliesst mit einem live moderiert
 en Blick in den aktuellen Sternenhimmel - dank Projektion und Kuppel-Leinw
 and bei jeder Witterung möglich.\nTüröffnung 30 Minuten vor Showbeginn
LOCATION:Bodensee Planetarium und Sternwarte\, Breitenrainstrasse 21\, 8280
  Kreuzlingen
DTSTART;TZID=Europe/Zurich:20260607T160000
DTEND;TZID=Europe/Zurich:20260607T160000
ORGANIZER:Bodensee Planetarium & Sternwarte
END:VEVENT
END:VCALENDAR
