BEGIN:VCALENDAR
VERSION:2.0
PRODID:-//Sabre//Sabre VObject 4.5.8//EN
CALSCALE:GREGORIAN
BEGIN:VEVENT
UID:sabre-vobject-a041aa26-057e-4825-99ec-27d459473daa
DTSTAMP:20260420T173020Z
SUMMARY:What the Frauenfeld?
DESCRIPTION:Wenn Natalie Ammann durch das Historische Museum Thurgau fegt\,
  bleibt kein Raum für Langeweile. Die junge Thurgauerin ist keine klassis
 che Historikerin\, sondern eine talentierte Geschichtenerzählerin mit ein
 er Vorliebe für die Absurditäten des Mittelalters. Ihre Tour «What the 
 Frauenfeld?» verspricht lebendige\, skurrile und überraschende Einblicke
  – ein Erlebnis der besonderen Art.\\n\n\\n\nGute Unterhaltung\, gepaart
  mit inspirierenden Wissenshäppchen – das ist Natalie Ammanns Spezialit
 ät. Warum war Fluchen einst eine Kunst? Wie viele Ziegen mussten für ein
  Pergamentblatt ihr Leben lassen? Und warum fühlt sich das Mittelalter wi
 e ein Labyrinth an? Antworten auf diese Fragen gibt es in der humorvollen 
 Tour\, die nicht nur die Beine\, sondern auch die Lachmuskeln fordert.\\n\
 n\\n\nDiese führt zu Fuss den Wehrturm hinauf und wieder hinunter\, immer
  auf der Spur der kuriosen Eigenheiten vergangener Zeiten. Und aufgepasst:
  Wer sündigt\, muss am Ende beichten! Für alle\, die Geschichte neu erle
 ben wollen.
LOCATION:Historisches Museum Thurgau\, Rathausplatz 2\, 8500 Frauenfeld
DTSTART;TZID=Europe/Zurich:20260830T140000
DTEND;TZID=Europe/Zurich:20260830T151500
ORGANIZER:Historisches Museum Thurgau
END:VEVENT
END:VCALENDAR
