BEGIN:VCALENDAR
VERSION:2.0
PRODID:-//Sabre//Sabre VObject 4.5.8//EN
CALSCALE:GREGORIAN
BEGIN:VEVENT
UID:sabre-vobject-e2148d3c-a745-4ff5-880e-7291b2b4aaf6
DTSTAMP:20260421T024800Z
SUMMARY:Open See Festival
DESCRIPTION:Vom 22. bis 24. Mai 2026 verwandelt sich der Stadtgarten Konsta
 nz erneut in eine offene Bühne für Musik\, Begegnung und Vielfalt – be
 i freiem Eintritt.\\nDas Open See Festival bringt regionale Talente\, span
 nende Newcomer-Acts und überregionale Künstler:innen an den Bodensee. Au
 ch die Gewinnerbands des Open See Contests werden wieder Teil des Programm
 s sein und zeigen\, was in der nächsten Generation Live-Musik steckt.\\nA
 n drei Tagen entsteht Festivalatmosphäre direkt am See – mit Konzerten 
 unter freiem Himmel\, DJ-Sets zwischen den Shows und einem vielfältigen g
 astronomischen Angebot. Das Open See Festival steht für musikalische Offe
 nheit\, kulturelle Vielfalt und ein gemeinsames Erlebnis im öffentlichen 
 Raum.\nVeranstaltet wird das Open See Festival vom Kulturladen Konstanz.
LOCATION:Konzertmuschel im Stadtgarten\, Stadtgarten 1\, 78462 Konstanz
DTSTART;TZID=Europe/Zurich:20260524T150000
DTEND;TZID=Europe/Zurich:20260524T150000
ORGANIZER:Kulturladen Konstanz e. V.
END:VEVENT
END:VCALENDAR
