BEGIN:VCALENDAR
VERSION:2.0
PRODID:-//Sabre//Sabre VObject 4.5.8//EN
CALSCALE:GREGORIAN
BEGIN:VEVENT
UID:sabre-vobject-9a5a25bb-c4f6-4f11-a2d5-5b67d054c379
DTSTAMP:20260419T164250Z
SUMMARY:Love Ghost
DESCRIPTION:Love Ghost kombiniert Alternative Rock\, Grunge\, Metal\, Pop-P
 unk\, Akustik\, Hardrock und andere Genres. Die Texte der Songs haben ein 
 Emo-mäßiges\, poetisches Flair und behandeln oft Traumata und psychische
  Probleme direkt. Ausgewählt für den Rockpalast (ausgestrahlt in ganz De
 utschland)\, haben sie auf vier Kontinenten live gespielt.\nIn Mexiko habe
 n sie mit Künstlern wie Adan Cruz\, Santa RM\, Dan Garcia\, Ritorukai\, W
 iplash\, Blnko\, Rayben\, El Burger und vielen anderen zusammengearbeitet.
  Weltweit haben sie an Songs mit The Skinner Brothers (UK)\, Rico Nasty\, 
 Bali Baby und einem ganzen Album mit SKOLD zusammengearbeitet.\nSie haben 
 Co-Signs vom Rolling Stone Magazine (über 10 Mal vorgestellt)\, Sonic Sed
 ucer\, Playboy\, Time-Out Mexico\, Clash Magazine\, Lyrical Lemonade\, EAR
 MILK\, Backseat Mafia\, Alternative Press und vielen anderen erhalten.
LOCATION:Kulturladen Konstanz\, Joseph-Belli-Weg 5\, 78467 Konstanz
DTSTART;TZID=Europe/Zurich:20260423T200000
DTEND;TZID=Europe/Zurich:20260423T200000
ORGANIZER:Kulturladen Konstanz e. V.
END:VEVENT
END:VCALENDAR
