BEGIN:VCALENDAR
VERSION:2.0
PRODID:-//Sabre//Sabre VObject 4.5.8//EN
CALSCALE:GREGORIAN
BEGIN:VEVENT
UID:sabre-vobject-b182a25f-630d-4e2f-afd5-c8c52100b284
DTSTAMP:20260421T101918Z
SUMMARY:Öffentlicher Abend in der Sternwarte
DESCRIPTION:Zusammen wird der aktuelle Sternenhimmel betrachtet\, Galaxien 
 und Sternbilder erspäht. Auch für bedeckten Himmel oder Regen ist vorges
 orgt: In der Planetariums-Kuppel kann durch modernste Technik der aktuelle
  Sternenhimmel auf eine 360°-Leinwand projiziert werden.\\n\n\\n\nDieser 
 öffentliche Abend findet bei jeder Witterung statt. Die Sternwarte-Kuppel
  und die Terrasse sind im Winter nicht beheizt! Wetterangepasste Bekleidun
 g notwendig.\\n\n\\n\nGeeignet ab 8 Jahren.\\n\n\\n\nVeranstalter: Astrono
 mische Vereinigung Kreuzlingen AVK\, www.avk.space
LOCATION:Bodensee Planetarium und Sternwarte\, Breitenrainstrasse 21\, 8280
  Kreuzlingen
DTSTART;TZID=Europe/Zurich:20260527T190000
DTEND;TZID=Europe/Zurich:20260527T190000
ORGANIZER:Bodensee Planetarium & Sternwarte
END:VEVENT
END:VCALENDAR
