BEGIN:VCALENDAR
VERSION:2.0
PRODID:-//Sabre//Sabre VObject 4.5.8//EN
CALSCALE:GREGORIAN
BEGIN:VEVENT
UID:sabre-vobject-b8ffe0bd-63fb-4602-ae0a-aed0c890ccd0
DTSTAMP:20260421T100555Z
SUMMARY:Das Kleine 1x1 der Sterne
DESCRIPTION:Während Tim zusammen mit seinem Bruder Mark und Marks Freundin
  die Sterne beobachtet und einige markante Sternbilder kennenlernt\, sieht
  er eine Sternschnuppe und hat den Wunsch\, zum Mond zu fliegen. Und sein 
 Wunsch wird Realität: Plötzlich befinden sich die drei an Bord eines Rau
 mschiffs gebeamt und reisen durch das Sonnensystem. Doch auf ihrem Abenteu
 er kommen sie der Sonne gefährlich nahe - können sie sich vor dem Vergl
 ühen retten?\\n\n\\n\n«Das Kleine 1x1 der Sterne» ist ein spannendes Pl
 anetariums-Abenteuer für die ganze Familie. Es vermittelt einfaches astro
 nomisches Grundwissen in der Kombination von kuppelfüllenden Videobildern
  mit eindrücklichen Projektionen des Sternenhimmels. Ab 6 Jahren.Türöff
 nung 30 Minuten vor Showbeginn.
LOCATION:Bodensee Planetarium und Sternwarte\, Breitenrainstrasse 21\, 8280
  Kreuzlingen
DTSTART;TZID=Europe/Zurich:20260517T160000
DTEND;TZID=Europe/Zurich:20260517T160000
ORGANIZER:Bodensee Planetarium & Sternwarte
END:VEVENT
END:VCALENDAR
