BEGIN:VCALENDAR
VERSION:2.0
PRODID:-//Sabre//Sabre VObject 4.5.8//EN
CALSCALE:GREGORIAN
BEGIN:VEVENT
UID:sabre-vobject-affa34d3-cc4d-45ae-8f9f-5ac94e29300a
DTSTAMP:20260421T100420Z
SUMMARY:Milliarden Sonnen - Eine Reise durch die Galaxis
DESCRIPTION:Seit Jahrtausenden haben die Menschen über die Sterne und die 
 Milchstrasse nachgedacht. Wie weit sind diese funkelnden Lichter entfernt 
 und wie kann man dies messen? Lange Zeit blieben diese Fragen unbeantworte
 t und die Milchstrasse ein grosses Rätsel. Erst in der heutigen Zeit geli
 ngt es mit Hilfe von Satelliten\, die Sternentfernungen – und damit die 
 räumliche Struktur unserer Milchstrasse – mit hoher Präzision zu verme
 ssen.\\n\\nDie Show führt Besucher:innen durch die Geschichte der Himmels
 kunde\, von den einfachsten Methoden der Kartierung von Sternen bis zur Be
 stimmung der Struktur unserer Milchstrasse\, und gipfelt im Start der ESA-
 Mission Gaia\, die das Verständnis der Milchstrasse revolutionieren wird.
 \\n\\nAb 12 Jahren.\\n\\nAlle Planetariums-Shows sind eindrucksvolle\, mul
 ti-mediale Erlebnisse auf einer 360° Fulldome-Leinwand und werden durch d
 ie kompetenten Mitglieder der Astronomischen Vereinigung Kreuzlingen AVK d
 urchgeführt. Jede Show schliesst mit einem live moderierten Blick in den 
 aktuellen Sternenhimmel - dank Projektion und Kuppel-Leinwand bei jeder Wi
 tterung möglich.\nTüröffnung 30 Minuten vor Showbeginn
LOCATION:Bodensee Planetarium und Sternwarte\, Breitenrainstrasse 21\, 8280
  Kreuzlingen
DTSTART;TZID=Europe/Zurich:20260621T160000
DTEND;TZID=Europe/Zurich:20260621T160000
ORGANIZER:Bodensee Planetarium & Sternwarte
END:VEVENT
END:VCALENDAR
