BEGIN:VCALENDAR
VERSION:2.0
PRODID:-//Sabre//Sabre VObject 4.5.8//EN
CALSCALE:GREGORIAN
BEGIN:VEVENT
UID:sabre-vobject-99b62652-fdc2-4686-ae3d-793e58b0554c
DTSTAMP:20260421T100311Z
SUMMARY:Sternwartenabend
DESCRIPTION:Jeden 3. Samstag im Monat lädt die Sternwarte alle Himmelsbege
 isterten zu einem besonderen Abend ein. \\n\\nDie Teleskope stehen bereit
 \, um einen Blick in die Tiefen des Universums zu ermöglichen. Jede Veran
 staltung behandelt ein neues Thema rund um Astronomie und Himmelsbeobachtu
 ng. Anfänger:innen und erfahrene Sternengucker:innen finden passende Inha
 lte.\\n\\nTipp: Warme Kleidung mitbringen – die Nacht kann kühl werden!
 \\n\\nDie Veranstaltung findet bei klarem Himmel statt. Interessierte werd
 en gebeten\, sich am Veranstaltungstag auf der Website zu informieren\, ob
  der Abend stattfinden kann. Bei grossem Besucher:innenaufkommen kann es z
 u Wartezeiten kommen. \\n\\nVeranstalter: Astronomische Vereinigung Kreuz
 lingen AVK\, www.avk.space
LOCATION:Bodensee Planetarium und Sternwarte\, Breitenrainstrasse 21\, 8280
  Kreuzlingen
DTSTART;TZID=Europe/Zurich:20260516T200000
DTEND;TZID=Europe/Zurich:20260516T200000
ORGANIZER:Bodensee Planetarium & Sternwarte
END:VEVENT
END:VCALENDAR
