BEGIN:VCALENDAR
VERSION:2.0
PRODID:-//Sabre//Sabre VObject 4.5.8//EN
CALSCALE:GREGORIAN
BEGIN:VEVENT
UID:sabre-vobject-27b173e2-616a-4fc7-a21b-a275d3f4c139
DTSTAMP:20260425T000510Z
SUMMARY:Schlagerparty auf dem Schiff
DESCRIPTION:Eine schwungvolle Schlagerfahrt auf dem Bodensee – von zeitlo
 sen Hits der 70er bis zu aktuellen Partykrachern\, präsentiert vom Party-
 Kapitän DJ Rex David. An der Bar können die Gäste gemeinsam mit anderen
  Schlager-Fans anstossen und sich von der guten Stimmung an Bord mitreisse
 n lassen. \nAn Bord gilt freie Platzwahl\, auch für Gruppen.\\nTiere sin
 d auf dieser Fahrt nicht erlaubt.\\nKeine Vergünstigung mit Halbtax/GA.
LOCATION:Schweizerische Bodensee-Schifffahrt AG\, Friedrichshafnerstrasse 5
 5\, 8590 Romanshorn
DTSTART;TZID=Europe/Zurich:20260704T193000
DTEND;TZID=Europe/Zurich:20260704T230000
ORGANIZER:Schweizerische Bodensee-Schifffahrt AG
END:VEVENT
END:VCALENDAR
