BEGIN:VCALENDAR
VERSION:2.0
PRODID:-//Sabre//Sabre VObject 4.5.8//EN
CALSCALE:GREGORIAN
BEGIN:VEVENT
UID:sabre-vobject-c35be9ac-0477-4c29-b3fa-15d01557ff96
DTSTAMP:20260423T125945Z
SUMMARY:Kunst und Spiritualität im Dialog
DESCRIPTION:In seinem künstlerischen Wirken verbindet Vincent Fournier Kun
 st\, Meditation und Spiritualität. Doch gibt es so etwas wie eine "spirit
 uelle" Kunst und wenn ja\, was unterscheidet sie von der "normalen" Kunst?
 \nOder anders gefragt: Gibt es überhaupt eine Kunst\, die nicht spirituel
 l ist? Denn jede Kunst weist über sich selbst hinaus und macht eine Aussa
 ge\, die grösser ist als das Kunstwerk. Stefanie Hoch\, stellvertretende 
 Direktorin des Kunstmuseums Thurgau unterhält sich mit Vincent Fournier 
 über diese Fragen.\\n\\nDie Finissage bietet nochmals die Gelegenheit\, d
 ie Ausstellung «Scala claustralium» im Schweigen zu betrachten\, begleit
 et von den Harfenklängen von Seline Jetzer.
LOCATION:Kunstmuseum Thurgau\, Kartause Ittingen\, 8532 Warth
DTSTART;TZID=Europe/Zurich:20260426T114500
DTEND;TZID=Europe/Zurich:20260426T114500
ORGANIZER:Kunstmuseum Thurgau
END:VEVENT
END:VCALENDAR
