BEGIN:VCALENDAR
VERSION:2.0
PRODID:-//Sabre//Sabre VObject 4.5.8//EN
CALSCALE:GREGORIAN
BEGIN:VEVENT
UID:sabre-vobject-c9b1d98b-fb06-4c46-91ef-dcce88b46328
DTSTAMP:20260423T085953Z
SUMMARY:Spezialführung «Gedenke mein – Haare in der Erinnerungskultur»
DESCRIPTION:Sander Kunz vertieft sich seit geraumer Zeit mit der Volkskultu
 r und steht durch seine kunsthandwerkliche und vermittelnde Tätigkeit in 
 den Bereichen Klosterarbeit (sakrales Kunsthandwerk)\, Schäppeln (Braut- 
 und Festtagskronen der Schweizer Trachten)\, sowie verschiedenen anderen a
 lten und aussterbenden Techniken\, im Austausch der Generationen und zwisc
 hen alt und neu.
LOCATION:Kartause Ittingen\, 8532 Warth
DTSTART;TZID=Europe/Zurich:20260430T180000
DTEND;TZID=Europe/Zurich:20260430T180000
ORGANIZER:Kunstmuseum Thurgau
END:VEVENT
END:VCALENDAR
