BEGIN:VCALENDAR
VERSION:2.0
PRODID:-//Sabre//Sabre VObject 4.5.8//EN
CALSCALE:GREGORIAN
BEGIN:VEVENT
UID:sabre-vobject-482e3f6e-266a-4bbf-8464-4ea3c4f97d00
DTSTAMP:20260425T000508Z
SUMMARY:Kunst-Schifffahrt
DESCRIPTION:Kunst\, die verbindet: Der Untersee als Kunstraum. In den Gemei
 nden Berlingen\, Gaienhofen und Steckborn werden 14 künstlerische Install
 ationen präsentiert\, welche die Verbundenheit der drei Untersee-Gemeinde
 n in den Mittelpunkt stellen. \\n\n\\n\nAn drei Sonntagen wird das Schiff 
 zur Bühne für Musik und Theatrales. Begleitet von der Mit-Initiantin und
  Kunstvermittlerin Judit Villiger entdecken Passagiere verschiedene Kunstp
 ositionen des Projekts «hänne und dänne: Der Untersee als Kunstraum»\,
  mit einem Landgang in Gaienhofen. Zum Abschluss gibt es eine Führung zu 
 ausgewählten Arbeiten in Steckborn.
LOCATION:Schifflände Steckborn\, Seestrasse 102a\, 8266 Steckborn
DTSTART;TZID=Europe/Zurich:20260628T150000
DTEND;TZID=Europe/Zurich:20260628T175500
ORGANIZER:URh Untersee und Rhein
END:VEVENT
END:VCALENDAR
