BEGIN:VCALENDAR
VERSION:2.0
PRODID:-//Sabre//Sabre VObject 4.5.8//EN
CALSCALE:GREGORIAN
BEGIN:VEVENT
UID:sabre-vobject-7df10a8b-4c34-4d17-8c49-c98f8d5c5446
DTSTAMP:20260421T051256Z
SUMMARY:Le chant des forêts
DESCRIPTION:Nach «La Panthère des neiges» nimmt der Wildtierfotograf und
  Dokumentarilm-Regisseur Vincent Munier das Publikum erneut auf eine atemb
 eraubend schöne Reise mit. Tief in den Wäldern der Vogesen hat er von se
 inem Vater gelernt\, die Spuren der Tiere zu lesen und zu erkunden\, wo si
 e fressen\, jagen\, ihre Nester bauen und schlafen. Nun ist es an der Zeit
 \, dieses Wissen an Simon\, Vincents Sohn\, weiterzugeben. Gemeinsam mache
 n sich die drei auf\, die Vielfalt und bezaubernde Schönheit des alten\, 
 moosbewachsenen Waldes zu entdecken.\nVersteckt unter Bäumen verbringen G
 rossvater\, Vater und Sohn zahlreiche Nächte draussen\, beobachtend\, den
  vielfältigen Geräuschen lauschend. Und wir entdecken mit ihnen Hirsche\
 , Eulen\, Füchse und Luchse – und manchmal sogar das Flügelschlagen ei
 nes sehr seltenen Tieres: des Auerhahns. «Le Chant des forêts» schlägt
  eine Brücke zwischen Mensch und Natur\, Tag und Nacht\, Persönlichem un
 d Universellem: ein visuell grossartiges\, sinnliches filmisches Gedicht.\
 \n\\nCAST &amp\; CREW\\nDirector: Vincent Munier\\nProducer: Pierre-Emmanu
 el Fleurantin\\nCast: Michel Munier\, Simon Munier\, Vincent Munier\\nMusi
 c: Dom La Nena\, Rosemary Standley\\n\\nDuration: 95\\nProduktion: France\
 , 2025\\nDistribution: Filmcoopi
LOCATION:Roxy\, Salmsacherstrasse 1\, 8590 Romanshorn
DTSTART;TZID=Europe/Zurich:20260426T170000
DTEND;TZID=Europe/Zurich:20260426T170000
ORGANIZER:Roxy
END:VEVENT
END:VCALENDAR
