BEGIN:VCALENDAR
VERSION:2.0
PRODID:-//Sabre//Sabre VObject 4.5.8//EN
CALSCALE:GREGORIAN
BEGIN:VEVENT
UID:sabre-vobject-2b887ef3-ed46-42f9-9054-45d5e4b3af69
DTSTAMP:20260424T192702Z
SUMMARY:Dance Night mit mit Patric Pleasure & Gee-K
DESCRIPTION:Die Dance Night geht in die nächste Runde. Eine Reise durch di
 e Musikgeschichte mit Patric Pleasure &amp\; Gee-K – von 60s Soul und Fu
 nk über 70s und 80s Disco und Pop bis zu modernen Dancefloor Classics.
LOCATION:Grosses Haus\, Museumstrasse 24\, 9000 St. Gallen
DTSTART;TZID=Europe/Zurich:20260509T210000
DTEND;TZID=Europe/Zurich:20260510T020000
ORGANIZER:Konzert und Theater St.Gallen
END:VEVENT
END:VCALENDAR
