BEGIN:VCALENDAR
VERSION:2.0
PRODID:-//Sabre//Sabre VObject 4.5.8//EN
CALSCALE:GREGORIAN
BEGIN:VEVENT
UID:sabre-vobject-a90b0433-7497-4fa7-bf06-6864b00bc332
DTSTAMP:20260424T192521Z
SUMMARY:Echos
DESCRIPTION:Ein Echo ist mehr als nur ein Klang – es ist Erinnerung\, Wid
 erhall\, Verbindung und Entfernung zugleich. Es trägt Stimmen durch Raum 
 und Zeit\, verstärkt Rufe oder lässt sie verhallen\, schafft Nähe oder 
 unterstreicht Stille und Isolation. Unter der künstlerischen Leitung von 
 Frank Fannar Pedersen und Javier Rodríguez Cobos entsteht ein facettenrei
 cher Tanzabend mit Live-Musik\, der sich ganz diesem Phänomen verschreibt
 .
LOCATION:Grosses Haus\, Museumstrasse 24\, 9000 St. Gallen
DTSTART;TZID=Europe/Zurich:20260510T190000
DTEND;TZID=Europe/Zurich:20260510T213000
ORGANIZER:Konzert und Theater St.Gallen
END:VEVENT
END:VCALENDAR
