BEGIN:VCALENDAR
VERSION:2.0
PRODID:-//Sabre//Sabre VObject 4.5.8//EN
CALSCALE:GREGORIAN
BEGIN:VEVENT
UID:sabre-vobject-d058276a-3acb-4f2f-8707-ab636b6debca
DTSTAMP:20260424T192521Z
SUMMARY:Lunch mit Brahms 3
DESCRIPTION:Lust auf Mittagspause mit dem Sinfonieorchester St. Gallen? An 
 vier Mittagen der Saison haben Sie die Gelegenheit\, sich bei uns eine kli
 ngende Auszeit zu nehmen und für circa dreissig Minuten in die Welt der 
 Orchestermusik einzutauchen. Nach den Kurzkonzerten im Grossen Saal der To
 nhalle erwartet Sie im Foyer ein Lunch-Angebot des Restaurants Concerto.
LOCATION:Tonhalle\, Museumstrasse 25\, 9000 St. Gallen
DTSTART;TZID=Europe/Zurich:20260508T121500
DTEND;TZID=Europe/Zurich:20260508T121500
ORGANIZER:Konzert und Theater St.Gallen
END:VEVENT
END:VCALENDAR
