BEGIN:VCALENDAR
VERSION:2.0
PRODID:-//Sabre//Sabre VObject 4.5.8//EN
CALSCALE:GREGORIAN
BEGIN:VEVENT
UID:sabre-vobject-eb19d24b-bcf1-40fc-8dfc-4010c5bcbee3
DTSTAMP:20260424T200719Z
SUMMARY:Hair
DESCRIPTION:Das 1967 in New York uraufgeführte Rock-Musical Hair wurde sp
 ätestens mit der Verfilmung durch Milos Forman von 1979 legendär. Hits w
 ie «Aquarius»\, «Let the Sunshine In» oder «Hair» wurden die Songs e
 ines ganzen Zeitalters. Regisseur Krystian Lada\, der zuletzt in St.Gallen
  die mit dem «Oper!Award» ausgezeichnete Uraufführung Lili Elbe und die
  Oper Macbeth inszenierte\, sondiert die Geschichte der 68er Bewegung mit 
 kritischer Rück- und Voraussicht.
LOCATION:Grosses Haus\, Museumstrasse 24\, 9000 St. Gallen
DTSTART;TZID=Europe/Zurich:20261031T190000
DTEND;TZID=Europe/Zurich:20261031T212000
ORGANIZER:Konzert und Theater St.Gallen
END:VEVENT
END:VCALENDAR
