BEGIN:VCALENDAR
VERSION:2.0
PRODID:-//Sabre//Sabre VObject 4.5.8//EN
CALSCALE:GREGORIAN
BEGIN:VEVENT
UID:sabre-vobject-573fd391-3b61-464f-bf00-d55e1b91defd
DTSTAMP:20260424T192509Z
SUMMARY:Theaterführung
DESCRIPTION:Einen Rundgang durch Werkstätten\, Schneiderei\, Garderoben\, 
 Maske und Bühne einen Einblick in den Mikrokosmos Theater erhalten.
LOCATION:Grosses Haus\, Museumstrasse 24\, 9000 St. Gallen
DTSTART;TZID=Europe/Zurich:20260509T110000
DTEND;TZID=Europe/Zurich:20260509T110000
ORGANIZER:Konzert und Theater St.Gallen
END:VEVENT
END:VCALENDAR
