BEGIN:VCALENDAR
VERSION:2.0
PRODID:-//Sabre//Sabre VObject 4.5.8//EN
CALSCALE:GREGORIAN
BEGIN:VEVENT
UID:sabre-vobject-ee512e5c-8aa0-494c-8a3a-083ce1131a9e
DTSTAMP:20260424T192510Z
SUMMARY:Theaterführung
DESCRIPTION:Einen Rundgang durch Werkstätten\, Schneiderei\, Garderoben\, 
 Maske und Bühne einen Einblick in den Mikrokosmos Theater erhalten.
LOCATION:Grosses Haus\, Museumstrasse 24\, 9000 St. Gallen
DTSTART;TZID=Europe/Zurich:20260530T100000
DTEND;TZID=Europe/Zurich:20260530T100000
ORGANIZER:Konzert und Theater St.Gallen
END:VEVENT
END:VCALENDAR
