BEGIN:VCALENDAR
VERSION:2.0
PRODID:-//Sabre//Sabre VObject 4.5.8//EN
CALSCALE:GREGORIAN
BEGIN:VEVENT
UID:sabre-vobject-0f7e670e-0b9b-4f4f-86f5-c463caac5b6f
DTSTAMP:20260424T192714Z
SUMMARY:Theaterführung
DESCRIPTION:Einen Rundgang durch Werkstätten\, Schneiderei\, Garderoben\, 
 Maske und Bühne einen Einblick in den Mikrokosmos Theater erhalten.
LOCATION:Grosses Haus\, Museumstrasse 24\, 9000 St. Gallen
DTSTART;TZID=Europe/Zurich:20260627T100000
DTEND;TZID=Europe/Zurich:20260627T100000
ORGANIZER:Konzert und Theater St.Gallen
END:VEVENT
END:VCALENDAR
