BEGIN:VCALENDAR
VERSION:2.0
PRODID:-//Sabre//Sabre VObject 4.5.8//EN
CALSCALE:GREGORIAN
BEGIN:VEVENT
UID:sabre-vobject-1b7f57b7-0870-40b6-b19a-360ef53fb6c5
DTSTAMP:20260423T135745Z
SUMMARY:Vivaldi\, Corelli & Co.
DESCRIPTION:An exklusiven Locations entspannt in einen klingenden Feieraben
 d starten und dazu einen Drink geniessen – ist das Musik in den Ohren? D
 ann ist die After-Work-Reihe genau das Richtige. Mitglieder des Sinfonieor
 chesters St. Gallen bieten zum Feierabend Konzerte in unterschiedlichen Fo
 rmationen: Vom Quartett bis zur grossen sinfonischen Besetzung ist in dies
 er Konzertreihe alles anzutreffen.
LOCATION:Palace\, Zwinglistrasse 3\, 9000 St. Gallen
DTSTART;TZID=Europe/Zurich:20260423T180000
DTEND;TZID=Europe/Zurich:20260423T180000
ORGANIZER:Konzert und Theater St.Gallen
END:VEVENT
END:VCALENDAR
