BEGIN:VCALENDAR
VERSION:2.0
PRODID:-//Sabre//Sabre VObject 4.5.8//EN
CALSCALE:GREGORIAN
BEGIN:VEVENT
UID:sabre-vobject-b9a0760f-a8eb-4f39-8ee5-f6d88e1a3f1f
DTSTAMP:20260424T192353Z
SUMMARY:Aida
DESCRIPTION:Aida ist eine äthiopische Prinzessin\, die als Kriegsgefangene
  lebt. Sie liebt Radamès\, den ägyptischen Heerführer\, der eigentlich 
 ihr Feind ist und die ägyptische Königstochter Amneris heiraten soll. Do
 ch Radamès liebt Aida. Die junge Liebe wird zum Spielball gewissenloser M
 achtpolitik eines zementierten politischen Systems - und endet tödlich. M
 it Verdis faszinierendem Meisterwerk in der Regie von Ben Baur gestaltet K
 onzert und Theater St.Gallen diesmal die Festspiele im eigenen Haus.
LOCATION:Grosses Haus\, Museumstrasse 24\, 9000 St. Gallen
DTSTART;TZID=Europe/Zurich:20260619T200000
DTEND;TZID=Europe/Zurich:20260619T200000
ORGANIZER:Konzert und Theater St.Gallen
END:VEVENT
END:VCALENDAR
