BEGIN:VCALENDAR
VERSION:2.0
PRODID:-//Sabre//Sabre VObject 4.5.8//EN
CALSCALE:GREGORIAN
BEGIN:VEVENT
UID:sabre-vobject-17792a3f-da5c-4a25-a418-8452489768e9
DTSTAMP:20260424T192714Z
SUMMARY:Aida
DESCRIPTION:Aida ist eine äthiopische Prinzessin\, die als Kriegsgefangene
  lebt. Sie liebt Radamès\, den ägyptischen Heerführer\, der eigentlich 
 ihr Feind ist und die ägyptische Königstochter Amneris heiraten soll. Do
 ch Radamès liebt Aida. Die junge Liebe wird zum Spielball gewissenloser M
 achtpolitik eines zementierten politischen Systems - und endet tödlich. M
 it Verdis faszinierendem Meisterwerk in der Regie von Ben Baur gestaltet K
 onzert und Theater St.Gallen diesmal die Festspiele im eigenen Haus.
LOCATION:Grosses Haus\, Museumstrasse 24\, 9000 St. Gallen
DTSTART;TZID=Europe/Zurich:20260626T200000
DTEND;TZID=Europe/Zurich:20260626T200000
ORGANIZER:Konzert und Theater St.Gallen
END:VEVENT
END:VCALENDAR
