BEGIN:VCALENDAR
VERSION:2.0
PRODID:-//Sabre//Sabre VObject 4.5.8//EN
CALSCALE:GREGORIAN
BEGIN:VEVENT
UID:sabre-vobject-d116cdfd-7910-4008-87f2-4a4082b96b8b
DTSTAMP:20260424T192827Z
SUMMARY:Iki pasimatymo!
DESCRIPTION:Das 10. Tonhallekonzert ist Modestas Pitrenas’ letztes als Ch
 efdirigent und Künstlerischer Leiter des Sinfonieorchesters St. Gallen. 
 Deshalb feiern wir ihn in diesem Programm noch einmal gebührend. Mit dab
 ei ist Landsmann Martynas Levickis\, einer der aktuell gefragtesten Akkord
 eonisten\, der in Daniel Nelsons Akkordeonkonzert The Ghost Machine Treati
 se zu erleben ist. Zu Beginn des Programms tanzen das Orchester und sein s
 cheidender Chef einen ebenso leidenschaftlichen wie wehmütigen und in al
 len erdenklichen Orchesterfarben schillernden lettischen Tango von Arturs 
 Maskats. Im zweiten Teil dirigiert Modestas Pitrenas Dmitri Schostakowitsc
 hs 5. Sinfonie\, die wohl zugänglichste – aber nicht weniger vielschich
 tige – Sinfonie Schostakowitschs. Wir sagen Danke und "Iki pasimatymo! 
 – Auf Wiedersehen\, Modestas Pitrenas!"
LOCATION:Tonhalle\, Museumstrasse 25\, 9000 St. Gallen
DTSTART;TZID=Europe/Zurich:20260529T193000
DTEND;TZID=Europe/Zurich:20260529T213000
ORGANIZER:Konzert und Theater St.Gallen
END:VEVENT
END:VCALENDAR
