BEGIN:VCALENDAR
VERSION:2.0
PRODID:-//Sabre//Sabre VObject 4.5.8//EN
CALSCALE:GREGORIAN
BEGIN:VEVENT
UID:sabre-vobject-eb47d5f3-6c44-4849-baca-73d26be698a3
DTSTAMP:20260424T192353Z
SUMMARY:Der Besuch der alten Dame
DESCRIPTION:Ist der Mensch käuflich? Hat Moral einen Preis? Was ist Gerech
 tigkeit? Solche Fragen stellt der moderne Klassiker Der Besuch der alten D
 ame mit brutaler Klarheit: universelle Fragen und doch ganz auf die Schwei
 z bezogen\, damals wie heute. Wir zeigen Friedrich Dürrenmatts Welterfolg
  mit Heidi Maria Glössner in Hauptrolle – und in einer eigenen Mundartf
 assung.
LOCATION:Grosses Haus\, Museumstrasse 24\, 9000 St. Gallen
DTSTART;TZID=Europe/Zurich:20261204T193000
DTEND;TZID=Europe/Zurich:20261204T221500
ORGANIZER:Konzert und Theater St.Gallen
END:VEVENT
END:VCALENDAR
