BEGIN:VCALENDAR
VERSION:2.0
PRODID:-//Sabre//Sabre VObject 4.5.8//EN
CALSCALE:GREGORIAN
BEGIN:VEVENT
UID:sabre-vobject-a208071d-264d-401e-b8bf-4571588a8908
DTSTAMP:20260421T100022Z
SUMMARY:Rolf Schmid - I mag einfach nüma
DESCRIPTION:Wenn Rolf Schmid die Bühne betritt\, bleibt kein Auge trocken 
 – und 2026 wird das letzte Jahr sein\, in dem das Comedy-Urgestein mit s
 einem neuen Programm «I mag eifach nüma!» mit einer grossen Tournee dur
 ch die Schweiz zieht und am Dienstag 10. November im Thurgauerhof Weinfeld
 en gastiert. Nach über drei Jahrzehnten voller Pointen\, Programme und al
 s Publikumsliebling sagt der Bündner Entertainer und Comedian: «Es isch 
 fertig luschtig – zumindest uf dä Bühni.» \\n\\nMan versteht ihn gut
 : 66 Jahre hat er auf dem Buckel\, 33 Jahre stand er auf der Bühne. Schwe
 izweit bekannt wurde Rolf Schmid in den 1990er-Jahren als Gesicht und Werb
 ebotschafter von Rhäzünser Mineralwasser. Es folgten zahlreiche Tourneen
  sowie Auftritte in beliebten TV-Shows wie Benissimo\, Rondo Mondo\, Arosa
  Humor Festival oder Giacobbo/Müller. \\n\\n«I mag eifach nid!» ist Kul
 t\\nMit insgesamt 12 Soloprogrammen brachte er das Publikum immer wieder z
 um Lachen – und kassierte dafür nicht nur unzählige «Standing Ovation
 s»\, die er gerne mit einem «Setzt euch\, ich bin ja no da» konterte\, 
 sondern auch Auszeichnungen wie den renommierten Prix Walo und diverse Com
 edy-Awards. Mit seiner legendären Nummer «I mag eifach nid!» erlangte e
 r schliesslich Kultstatus. «Es erfüllt mich schon etwas mit Stolz\, dass
  diese Zeile heute noch über alle Generation weitergegeben wird und auch 
 für Lebensfreude steht»\, sagt ein glücklicher Rolf Schmid. \\n\\nRolf 
 privat – fast so lustig wie auf der Bühne\\nAbseits des Rampenlichts is
 t Schmid Familienmensch geblieben. Zwischen Auftritten\, Tourneen und Prob
 en hat er es immer geschafft\, für seine Liebsten da zu sein – und das 
 Kochen seiner legendären «Schmid’schen Älplermagronen» nie vernachl
 ässigt. Ob als Vater\, Freund oder Gastgeber: Seine Bodenständigkeit ist
  so unverwechselbar wie sein Humor. «Ich konnte bisher das machen\, was m
 ir Freude bereitet. Dafür bin ich sehr dankbar»\, sagt Rolf Schmid. \\n\
 \nEin lustiges Buch als Bestseller\\n2023 veröffentliche Rolf Schmid das 
 Buch «I mag einfach nid». Dies ist ein Buch\, das der Comedian Rolf Schm
 id und sein Texter Hardy Hemmi ursprünglich gar nie wollten. Sie wollten 
 nichts anderes als bloss ein paar Anekdoten aus dem fast ganz normalen Leb
 en des gelernten Bäcker-Konditors und späteren Comedians Rolf Schmid not
 ieren und diese biografischen Episoden irgendwann\, irgendwie und irgendwo
  szenisch auf die Bühne bringen. Über Nacht verselbständigte sich das g
 anze Projekt und kam in Fahrt\, wie ein reißender Bündner Bergbach nach 
 einem Gewitter. Und dann ging es los: Und das fast ganz normale Leben von 
 Rolf Schmid erweist sich im Rückspiegel betrachtet oft als meilenweit weg
  von jeder Norm. Und vieles\, was aus heutiger Distanz urkomisch\, ja lust
 ig erscheint\, war damals oft alles andere als das. Das lustige Buch wird 
 zum Bestseller. \\n\\nDie letzte Tournee – ein Abschied mit Lachtränen\
 \nMit seiner Abschiedstournee 2026 erfüllt Rolf Schmid sich und seinem Pu
 blikum den letzten grossen Traum: Noch einmal durchs Land ziehen\, noch ei
 nmal alles geben\, noch einmal die Leute zum Lachen bringen. «Danach freu
 e ich mich\, mehr Zeit mit meiner Familie\, in der Natur und fürs Kochen 
 zu haben»\, meint Rolf Schmid. «I mag einfach nüma!» heisst sein Schlu
 sspunkt. Eine unterhaltsame Mischung aus Rückblick\, Vorschau und Chaos. 
 Also Rolf Schmid wie man ihn kennt respektive kannte. Rolf Schmid: «Es is
 t für mich eine Ehre\, meinem treuen Publikum nochmals richtig die Lachmu
 skeln zu strapazieren».
LOCATION:Kongresszentrum Thurgauerhof\, Felsenstrasse 6\, 8570 Weinfelden
DTSTART;TZID=Europe/Zurich:20261110T193000
DTEND;TZID=Europe/Zurich:20261110T213000
ORGANIZER:Star Shows GmbH
END:VEVENT
END:VCALENDAR
