BEGIN:VCALENDAR
VERSION:2.0
PRODID:-//Sabre//Sabre VObject 4.5.8//EN
CALSCALE:GREGORIAN
BEGIN:VEVENT
UID:sabre-vobject-27434a22-1707-4f69-b905-a6639edbd2e0
DTSTAMP:20260421T100029Z
SUMMARY:Samar by Rigolo - zwischen welt\, Seeburgpark Kreuzlingen
DESCRIPTION:Mit der Produktion Samar erkundet Rigolo die Zwischenwelten 
 – den Bereich zwischen Traum und Wirklichkeit\, zwischen dem Bekannten u
 nd dem Unbekannten. Vier Künstlerinnen bewegen sich zwischen Himmel und E
 rde\, stets balancierend und suchend. Ihre getanzte Reise erzählt von der
  Sehnsucht\, diese schwer fassbare Dimension zu verstehen.\\n\\nAm Standor
 t Seeburgpark\, direkt am See\, erwartet das Publikum ein besonderes Erleb
 nis: Rigolo Tanztheater und die Musikschule Kreuzlingen gestalten gemeinsa
 m eine atmosphärische Einstimmung auf das Stück Samar. Bereits 90 Minute
 n vor Vorstellungsbeginn können sich die Besucher:innen im Cateringbereic
 h kulinarisch verpflegen lassen und die besondere Abendstimmung am See gen
 iessen. Währenddessen setzen Schülerinnen der Musikschule Kreuzlingen im
  Aussenraum mit poetischen tänzerischen Akzenten erste szenische Impulse 
 und eröffnen eine leise Vorahnung der Welt von Samar.\\n\\nWenn sich das 
 Publikum anschliessend im Zelt versammelt\, führen die Schülerinnen dies
 e Einstimmung weiter: Mit Bewegung und Präsenz öffnen sie den Raum zur Z
 wischenwelt des Stücks und leiten fliessend zur anschliessenden Aufführu
 ng über.\\n\\nDas spartenübergreifende Stück vereint zeitgenössischen 
 Tanz\, Luftakrobatik und schauspielerische Elemente. In schwebenden Seilin
 stallationen erforschen die Performerinnen die Welt des Dazwischen-Seins. 
 Transparente Stoffe\, Lichtinstallationen und eigens komponierte Musik sch
 affen eine atmosphärisch dichte\, visuelle Poesie.\\n\\nNach Erfolgen wie
  „Flügel im Park“ und Sospiri im Weiden-Palais im Seeburgpark knüpft
  Rigolo an seine Tradition an\, Kunst\, Natur und Gemeinschaft miteinander
  zu verbinden – und lädt dazu ein\, in eine Welt einzutauchen\, in der 
 die Grenzen zwischen Traum und Realität verschwimmen.\\n\\nMitwirkende Sa
 mar:\\nKonzept / künstlerische Leitung: Marula Eugster\\nProduktionsleitu
 ng: Nuria Astorga Eugster\\nPerformance: Nadika Mohn\, Anna Zurkirchen\, C
 hiara Fersini\, Elena Patracca\\nChoreografie: Naomi Schwarz\, Marula Eugs
 ter in Zusammenarbeit mit den Artisten\\nAreal Coaching: Silvia Vrskova\\n
 Kostüme: Oxana Starosvit\, Marula Eugster\\nLichtdesign: Philip Dickmann\
 \nSzenografie / Konstruktion: Philip Dickmann\\nMusik: Alexandre Dai Casta
 ing\, Epi\\nUnterstützer:innen/Helfer:innen: Lena Roth\, Andreas Meyer\, 
 Albert brunner\, Erwin Hutter\, Heidi Heine
LOCATION:Seeburgpark Kreuzlingen\, Seeweg\, 8280 Kreuzlingen
DTSTART;TZID=Europe/Zurich:20260830T183000
DTEND;TZID=Europe/Zurich:20260830T194500
ORGANIZER:Rigolo Tanztheater
END:VEVENT
END:VCALENDAR
