BEGIN:VCALENDAR
VERSION:2.0
PRODID:-//Sabre//Sabre VObject 4.5.8//EN
CALSCALE:GREGORIAN
BEGIN:VEVENT
UID:sabre-vobject-1c40506d-77f6-4371-b51b-585d5c5ff333
DTSTAMP:20260421T143228Z
SUMMARY:Petra Ivanov liest in Wängi
DESCRIPTION:Verdeckte Ermittlungen in einer rechten Öko-Bewegung werden f
 ür Flint und Cavalli zur Zerreißprobe.\nSeit Bruno Cavalli als verdeckte
 r Ermittler in die völkisch-esoterische Anastasia-Bewegung eingeschleust 
 wurde\, hört Regina Flint kaum noch von ihm. Jeder Kontakt könnte nicht 
 nur die Ermittlungen gefährden\, sondern auch Cavallis Leben – denn ein
  Journalist\, der zu viel wusste\, wurde brutal ermordet.\\n\\nUm an die W
 ahrheit zu kommen\, muss Cavalli das Vertrauen einer Frau aus der Bewegung
  gewinnen. Während er sich ihren Regeln unterwirft\, taucht er immer tief
 er in eine Gemeinschaft ein\, die von Reinheit\, Rückbesinnung und gefäh
 rlichem Fanatismus geprägt ist. Wie weit kann er gehen? Und was\, wenn Fl
 int ihn nicht mehr rechtzeitig zurückholen kann?\nFlint und Cavalli ermit
 teln in ihrem zehnten gemeinsamen Fall – doch stehen sie noch auf dersel
 ben Seite?\nDie Lesung findet statt im Rahmen des Sommerfestes von Winkler
  Richard Naturgärten in Wängi.
LOCATION:Schaugarten\, Frauenfelderstrasse 27\, 9545 Wängi
DTSTART;TZID=Europe/Zurich:20260613T180000
DTEND;TZID=Europe/Zurich:20260613T180000
ORGANIZER:Winkler Richard Naturgärten
END:VEVENT
END:VCALENDAR
