BEGIN:VCALENDAR
VERSION:2.0
PRODID:-//Sabre//Sabre VObject 4.5.8//EN
CALSCALE:GREGORIAN
BEGIN:VEVENT
UID:sabre-vobject-fa6fa58c-64e4-465d-ae54-2326acb0a5f5
DTSTAMP:20260421T143441Z
SUMMARY:Ruth Weber liest in Wängi
DESCRIPTION:«Die Klinge hat Zacken\, sie ist lang\, und als das Licht dara
 uf fällt\, sieht es aus\, als stünde sie in Flammen. Die Schreie dringen
  durch ihren Körper. Sie weiss\, wer das ist. Sie kennt die Hand\, die da
 s Messer hält\, sie kennt diese Stimme.»\nDas Leben der jungen Berta ist
  geprägt von gesellschaftlichen und familiären Normen. Haushalt und Kind
 er scheinen das einzig mögliche Betätigungsfeld für eine Frau im ländl
 ichen Appenzell zu Beginn des 20. Jahrhunderts zu sein. Berta hat anderes 
 im Sinn. Doch unerfüllte Liebe und psychische Krankheit machen ihr einen 
 Strich durch die Rechnung. Wird es ihr trotz aller Widrigkeiten gelingen\,
  ein Leben nach ihren Vorstellungen zu führen?
LOCATION:Schaugarten\, Frauenfelderstrasse 27\, 9545 Wängi
DTSTART;TZID=Europe/Zurich:20260613T140000
DTEND;TZID=Europe/Zurich:20260613T140000
ORGANIZER:Winkler Richard Naturgärten
END:VEVENT
END:VCALENDAR
