BEGIN:VCALENDAR
VERSION:2.0
PRODID:-//Sabre//Sabre VObject 4.5.8//EN
CALSCALE:GREGORIAN
BEGIN:VEVENT
UID:sabre-vobject-f0daeef5-39cc-45fa-a805-cc9b83c9e7e4
DTSTAMP:20260421T143228Z
SUMMARY:Sommerfest im Schaugarten
DESCRIPTION:Samstag\\nFührungen im Naturgarten: 10:30\, 12:00\, 13:00\, 15
 :00\, 16:30 Uhr\n10:00 Uhr – Eröffnung/Start des Sommerfests\\n11:30-13
 :30 Uhr – Grillzeit\\n14:00-15:00 Uhr – Lesung mit Ruth Weber «B und 
 der König»\\n18:00 Uhr – Lesung von Petra Ivanov aus ihrem «Dunkle M
 ächte»\\n19:00 Uhr – Grillzeit\\n21:00 Uhr – Ende\nSonntag\\nFührun
 gen im Naturgarten: 10:00\, 11:30\, 14:00\, 15:30\, 17:00 Uhr\n9:00 Uhr 
 – Beginn\\n11:00-13:00 Uhr – Grillzeit\\n13:00-16:00 Uhr – Prämieru
 ng der Autor:innen des Schreibwettbewerbs\, Lesung der Gewinner:innen\\n18
 :00 Uhr – Ende\nOffener Garten 2026\\nAm Wochenende des 13. und 14. Juni
  2026 werden im Rahmen von «Offener Garten» von Bioterra schweizweit üb
 er 150 Gärten geöffnet sein.
LOCATION:Schaugarten\, Frauenfelderstrasse 27\, 9545 Wängi
DTSTART;TZID=Europe/Zurich:20260614T090000
DTEND;TZID=Europe/Zurich:20260614T180000
ORGANIZER:Winkler Richard Naturgärten
END:VEVENT
END:VCALENDAR
