BEGIN:VCALENDAR
VERSION:2.0
PRODID:-//Sabre//Sabre VObject 4.5.8//EN
CALSCALE:GREGORIAN
BEGIN:VEVENT
UID:sabre-vobject-ba945fe2-8866-4468-b249-d776bbf7793b
DTSTAMP:20260422T162220Z
SUMMARY:Frauenfelder Bücherfest 2026
DESCRIPTION:Es gibt eine Singzikadenart\, die in der Erde ruht\, um erst na
 ch 17 Jahren daraus emporzusteigen und die Welt mit ihrer Existenz zu begl
 ücken. Zwischen April und Juli spannen die Magicicada ihre zarten Flügel
  aus\, um ihresgleichen zu suchen und zu finden - ein bisschen biologische
  Magie.\nJedem Anfang wohnt ein Zauber inne\, erkannte Hermann Hesse. Das 
 Bücherfest wird schon seit 10 Jahren gefeiert und es fühlt sich jedes Ma
 l magisch an\, wie so ein Fest entsteht. Die Veranstaltenden denken nach\,
  lesen\, reisen an die Buchmessen\, studieren Neuerscheinungen\, lesen\, s
 prechen mit Verlagsleuten und Freund:innen\, lesen\, rufen Autor:innen und
  Moderator:innen an\, schreiben Mails\, erstellen Zeitpläne\, lesen\, und
  zu guter Letzt merken sie\, dass sich die ganze Arbeit als schönes Progr
 amm entpuppt. \n\\nLiteratur ist Vielfalt. 
LOCATION:Verschiedene Veranstaltungsorte in Frauenfeld\, 8500 Frauenfeld
DTSTART;TZID=Europe/Zurich:20260528T183000
DTEND;TZID=Europe/Zurich:20260528T183000
ORGANIZER:Lesefeld - Lesungen in und um Frauenfeld
END:VEVENT
END:VCALENDAR
